BEGIN:VCALENDAR
VERSION:2.0
CALSCALE:GREGORIAN
PRODID:-//Diputació de Barcelona//DibaCMS//EN
BEGIN:VEVENT
UID:3894
DTSTAMP:20260422T145927
DTSTART:20181201T110000
DTEND:20181201T130000
SUMMARY:Taller d'embolcalls de regal
LOCATION:
METHOD:PUBLISH
X-WR-CALNAME:capellades@capellades.cat
X-WR-TIMEZONE:Europe/Madrid
DESCRIPTION:Capellades Comerç prepara un taller per embolcallar els regals de Nadal.

URI:https://www.capellades.cat/actualitat/agenda/taller-dembolcalls-de-regal.html
CLASS:PUBLIC
END:VEVENT
END:VCALENDAR
