BEGIN:VCALENDAR
VERSION:2.0
CALSCALE:GREGORIAN
PRODID:-//Diputació de Barcelona//DibaCMS//EN
BEGIN:VEVENT
UID:3890
DTSTAMP:20260422T144816
DTSTART:20181129T204500
DTEND:20181129T230000
SUMMARY:Preestrena de la pel·lícula "Miriam Miente" del capelladí Oriol Estrada
LOCATION:
METHOD:PUBLISH
X-WR-CALNAME:capellades@capellades.cat
X-WR-TIMEZONE:Europe/Madrid
DESCRIPTION:L'Ateneu Igualadí acollirà la preestrena de la película "Miriam Miente" del cineasta capelladí Oriol Estrada i Natalia Cabral.

URI:https://www.capellades.cat/actualitat/agenda/preestrena-de-la-pellicula-miriam-miente-del-capelladi-oriol-estrada.html
CLASS:PUBLIC
END:VEVENT
END:VCALENDAR
