BEGIN:VCALENDAR
VERSION:2.0
CALSCALE:GREGORIAN
PRODID:-//Diputació de Barcelona//DibaCMS//EN
BEGIN:VEVENT
UID:3888
DTSTAMP:20260422T061324
DTSTART:20181130T090000
DTEND:20181201T203000
SUMMARY:Gran Recapte dels Aliments
LOCATION:
METHOD:PUBLISH
X-WR-CALNAME:capellades@capellades.cat
X-WR-TIMEZONE:Europe/Madrid
DESCRIPTION:Nova edició del Gran Recapte dels Aliments a Capellades.

URI:https://www.capellades.cat/actualitat/agenda/gran-recapte-dels-aliments.html
CLASS:PUBLIC
END:VEVENT
END:VCALENDAR
