BEGIN:VCALENDAR
VERSION:2.0
CALSCALE:GREGORIAN
PRODID:-//Diputació de Barcelona//DibaCMS//EN
BEGIN:VEVENT
UID:3880
DTSTAMP:20260422T084448
DTSTART:20181124T103000
DTEND:20181125T130000
SUMMARY:Futbol Sala 
LOCATION:
METHOD:PUBLISH
X-WR-CALNAME:capellades@capellades.cat
X-WR-TIMEZONE:Europe/Madrid
DESCRIPTION:Vine a animar els dos equips del Capellades que juguen aquest cap de setmana al Paveló Poliesportiu.

URI:https://www.capellades.cat/actualitat/agenda/futbol-sala-.html
CLASS:PUBLIC
END:VEVENT
END:VCALENDAR
