BEGIN:VCALENDAR
VERSION:2.0
CALSCALE:GREGORIAN
PRODID:-//Diputació de Barcelona//DibaCMS//EN
BEGIN:VEVENT
UID:3874
DTSTAMP:20260422T085513
DTSTART:20181120T000000
DTEND:20181205T223000
SUMMARY:La Penya Blaugrana et porta al Camp Nou
LOCATION:
METHOD:PUBLISH
X-WR-CALNAME:capellades@capellades.cat
X-WR-TIMEZONE:Europe/Madrid
DESCRIPTION:Per celebrar la Diada del Soci solidari el Barça convida tothom qui vulgui al Camp Nou a veure el partit de Copa del Rei contra la Cultural Lleonesa.

URI:https://www.capellades.cat/actualitat/agenda/la-penya-blaugrana-et-porta-al-camp-nou.html
CLASS:PUBLIC
END:VEVENT
END:VCALENDAR
