BEGIN:VCALENDAR
VERSION:2.0
CALSCALE:GREGORIAN
PRODID:-//Diputació de Barcelona//DibaCMS//EN
BEGIN:VEVENT
UID:3869
DTSTAMP:20260422T100149
DTSTART:20181126T173000
DTEND:20181128T190000
SUMMARY:Taller de robòtica
LOCATION:
METHOD:PUBLISH
X-WR-CALNAME:capellades@capellades.cat
X-WR-TIMEZONE:Europe/Madrid
DESCRIPTION:La Biblioteca El Safareig organitza un nou taller de robòtica.

URI:https://www.capellades.cat/actualitat/agenda/taller-de-robotica.html
CLASS:PUBLIC
END:VEVENT
END:VCALENDAR
