BEGIN:VCALENDAR
VERSION:2.0
CALSCALE:GREGORIAN
PRODID:-//Diputació de Barcelona//DibaCMS//EN
BEGIN:VEVENT
UID:3868
DTSTAMP:20260422T083803
DTSTART:20181124T213000
DTEND:20181124T230000
SUMMARY:Sopar de la sororitat feminista i LGTBIQ+
LOCATION:
METHOD:PUBLISH
X-WR-CALNAME:capellades@capellades.cat
X-WR-TIMEZONE:Europe/Madrid
DESCRIPTION:Dins els actes de commemoració del 25N.

URI:https://www.capellades.cat/actualitat/agenda/sopar-de-la-sororitat-feminista-i-lgtbiq.html
CLASS:PUBLIC
END:VEVENT
END:VCALENDAR
