BEGIN:VCALENDAR
VERSION:2.0
CALSCALE:GREGORIAN
PRODID:-//Diputació de Barcelona//DibaCMS//EN
BEGIN:VEVENT
UID:3867
DTSTAMP:20260422T083819
DTSTART:20181124T190000
DTEND:20181124T210000
SUMMARY:Cinefòrum 25N
LOCATION:
METHOD:PUBLISH
X-WR-CALNAME:capellades@capellades.cat
X-WR-TIMEZONE:Europe/Madrid
DESCRIPTION:Dins els actes del 25N es farà un cinefòrum amb "Tódalas mulleres que coñezco".

URI:https://www.capellades.cat/actualitat/agenda/cineforum-25n.html
CLASS:PUBLIC
END:VEVENT
END:VCALENDAR
