BEGIN:VCALENDAR
VERSION:2.0
CALSCALE:GREGORIAN
PRODID:-//Diputació de Barcelona//DibaCMS//EN
BEGIN:VEVENT
UID:3866
DTSTAMP:20260422T083219
DTSTART:20181124T100000
DTEND:20181124T130000
SUMMARY:Taller d'autoprotecció per a dones
LOCATION:
METHOD:PUBLISH
X-WR-CALNAME:capellades@capellades.cat
X-WR-TIMEZONE:Europe/Madrid
DESCRIPTION:Dins els actes del 25N, Dia Internacional per a l'eliminació de la violència envers les dones, es farà el segon taller d'autoprotecció per a dones.

URI:https://www.capellades.cat/actualitat/agenda/taller-dautoproteccio-per-a-dones.html
CLASS:PUBLIC
END:VEVENT
END:VCALENDAR
