BEGIN:VCALENDAR
VERSION:2.0
CALSCALE:GREGORIAN
PRODID:-//Diputació de Barcelona//DibaCMS//EN
BEGIN:VEVENT
UID:3865
DTSTAMP:20260422T071319
DTSTART:20181125T130000
DTEND:20181125T140000
SUMMARY:Concert del 25N amb Balkan Paradise Orchestra
LOCATION:
METHOD:PUBLISH
X-WR-CALNAME:capellades@capellades.cat
X-WR-TIMEZONE:Europe/Madrid
DESCRIPTION:Els actes de la Setmana de la Música i del 25N acabaran diumenge al migdia amb un Concert de les Balkan Paradise Orchestra.

URI:https://www.capellades.cat/actualitat/agenda/concert-del-25n-amb-balkan-paradise-orchestra.html
CLASS:PUBLIC
END:VEVENT
END:VCALENDAR
