BEGIN:VCALENDAR
VERSION:2.0
CALSCALE:GREGORIAN
PRODID:-//Diputació de Barcelona//DibaCMS//EN
BEGIN:VEVENT
UID:3864
DTSTAMP:20260422T111001
DTSTART:20181124T210000
DTEND:20181124T210000
SUMMARY:Concert de Santa Cecília
LOCATION:
METHOD:PUBLISH
X-WR-CALNAME:capellades@capellades.cat
X-WR-TIMEZONE:Europe/Madrid
DESCRIPTION:Com és costum de cada any, la Coral Noves Veus de Capellades ha preparat el seu Concert de Santa Cecília, enguany dins el marc dels actes de la Setmana de la Música.

URI:https://www.capellades.cat/actualitat/agenda/3864-concert-de-santa-cecilia.html
CLASS:PUBLIC
END:VEVENT
END:VCALENDAR
