BEGIN:VCALENDAR
VERSION:2.0
CALSCALE:GREGORIAN
PRODID:-//Diputació de Barcelona//DibaCMS//EN
BEGIN:VEVENT
UID:3863
DTSTAMP:20260422T083609
DTSTART:20181124T190000
DTEND:20181124T210000
SUMMARY:Concert de Tardor a Paper de Música
LOCATION:
METHOD:PUBLISH
X-WR-CALNAME:capellades@capellades.cat
X-WR-TIMEZONE:Europe/Madrid
DESCRIPTION:Dins els actes de la Setmana de la Música, el dissabte a les 7 de la tarda comença el Concert de Tardor de Paper de Música.

URI:https://www.capellades.cat/actualitat/agenda/concert-de-tardor-a-paper-de-musica.html
CLASS:PUBLIC
END:VEVENT
END:VCALENDAR
