BEGIN:VCALENDAR
VERSION:2.0
CALSCALE:GREGORIAN
PRODID:-//Diputació de Barcelona//DibaCMS//EN
BEGIN:VEVENT
UID:3862
DTSTAMP:20260422T100757
DTSTART:20181124T120000
DTEND:20181124T130000
SUMMARY:Concert de Combos de l'Escola de Música
LOCATION:
METHOD:PUBLISH
X-WR-CALNAME:capellades@capellades.cat
X-WR-TIMEZONE:Europe/Madrid
DESCRIPTION:Dos combos de l'Escola de Música de Capellades faran un concert dins els actes de la Setmana de la Música.

URI:https://www.capellades.cat/actualitat/agenda/concert-de-combos-de-lescola-de-musica.html
CLASS:PUBLIC
END:VEVENT
END:VCALENDAR
