BEGIN:VCALENDAR
VERSION:2.0
CALSCALE:GREGORIAN
PRODID:-//Diputació de Barcelona//DibaCMS//EN
BEGIN:VEVENT
UID:3861
DTSTAMP:20260422T071441
DTSTART:20181123T193000
DTEND:20181123T210000
SUMMARY:Conferència i exposició sobre la música a Capellades
LOCATION:
METHOD:PUBLISH
X-WR-CALNAME:capellades@capellades.cat
X-WR-TIMEZONE:Europe/Madrid
DESCRIPTION:El divendres 23 de novembre a dos quarts de 8 del vespre es previst que es faci una conferència i una exposició, dins els actes de la Setmana de la Música.

URI:https://www.capellades.cat/actualitat/agenda/conferencia-i-exposicio-sobre-la-musica-a-capellades.html
CLASS:PUBLIC
END:VEVENT
END:VCALENDAR
