BEGIN:VCALENDAR
VERSION:2.0
CALSCALE:GREGORIAN
PRODID:-//Diputació de Barcelona//DibaCMS//EN
BEGIN:VEVENT
UID:3860
DTSTAMP:20260422T071346
DTSTART:20181123T190000
DTEND:20181123T200000
SUMMARY:Presentació del llibre "La filla de la neu"
LOCATION:
METHOD:PUBLISH
X-WR-CALNAME:capellades@capellades.cat
X-WR-TIMEZONE:Europe/Madrid
DESCRIPTION:El divendres 23 a les 7 de la tarda es farà la presentació del llibre "La filla de la neu" amb la seva autora, Núria Esponellà.

URI:https://www.capellades.cat/actualitat/agenda/presentacio-del-llibre-la-filla-de-la-neu.html
CLASS:PUBLIC
END:VEVENT
END:VCALENDAR
