BEGIN:VCALENDAR
VERSION:2.0
CALSCALE:GREGORIAN
PRODID:-//Diputació de Barcelona//DibaCMS//EN
BEGIN:VEVENT
UID:3859
DTSTAMP:20260422T095858
DTSTART:20181122T193000
DTEND:20181122T210000
SUMMARY:Concert d'amor i de mort
LOCATION:
METHOD:PUBLISH
X-WR-CALNAME:capellades@capellades.cat
X-WR-TIMEZONE:Europe/Madrid
DESCRIPTION:El dijous 22, a dos quarts de 8 del vespre a la Sala d'Actes de la Biblioteca El Safareig, es podrà gaudir amb el concert "D'amor i de mort". 

URI:https://www.capellades.cat/actualitat/agenda/concert-damor-i-de-mort.html
CLASS:PUBLIC
END:VEVENT
END:VCALENDAR
