BEGIN:VCALENDAR
VERSION:2.0
CALSCALE:GREGORIAN
PRODID:-//Diputació de Barcelona//DibaCMS//EN
BEGIN:VEVENT
UID:3858
DTSTAMP:20260422T083653
DTSTART:20181121T210000
DTEND:20181121T230000
SUMMARY:Audiciona't a l'Escola de Música de Capellades
LOCATION:
METHOD:PUBLISH
X-WR-CALNAME:capellades@capellades.cat
X-WR-TIMEZONE:Europe/Madrid
DESCRIPTION:L'Audiciona't d'aquest mes de novembre està incòs dins els actes de la segona Setmana de la Música.

URI:https://www.capellades.cat/actualitat/agenda/audicionat-a-lescola-de-musica-de-capellades.html
CLASS:PUBLIC
END:VEVENT
END:VCALENDAR
