BEGIN:VCALENDAR
VERSION:2.0
CALSCALE:GREGORIAN
PRODID:-//Diputació de Barcelona//DibaCMS//EN
BEGIN:VEVENT
UID:3857
DTSTAMP:20260422T083234
DTSTART:20181120T190000
DTEND:20181120T203000
SUMMARY:Recital sobre Maria Aurèlia Capmany amb Carme Sansa
LOCATION:
METHOD:PUBLISH
X-WR-CALNAME:capellades@capellades.cat
X-WR-TIMEZONE:Europe/Madrid
DESCRIPTION:Recital "Carme Sansa diu i canta Maria Aurèlia Capmany" amb Carme Sansa a la veu i Jaume Mallofré a l'acordió.

URI:https://www.capellades.cat/actualitat/agenda/recital-sobre-maria-aurelia-capmany-amb-carme-sansa.html
CLASS:PUBLIC
END:VEVENT
END:VCALENDAR
