BEGIN:VCALENDAR
VERSION:2.0
CALSCALE:GREGORIAN
PRODID:-//Diputació de Barcelona//DibaCMS//EN
BEGIN:VEVENT
UID:3843
DTSTAMP:20260422T094426
DTSTART:20181115T180000
DTEND:20181115T200000
SUMMARY:Bingo a Cal Ponet
LOCATION:
METHOD:PUBLISH
X-WR-CALNAME:capellades@capellades.cat
X-WR-TIMEZONE:Europe/Madrid
DESCRIPTION:Nova edició del Bingo a Cal Ponet per als avis i àvies de Capellades.

URI:https://www.capellades.cat/actualitat/agenda/3843-bingo-a-cal-ponet.html
CLASS:PUBLIC
END:VEVENT
END:VCALENDAR
