BEGIN:VCALENDAR
VERSION:2.0
CALSCALE:GREGORIAN
PRODID:-//Diputació de Barcelona//DibaCMS//EN
BEGIN:VEVENT
UID:3842
DTSTAMP:20260422T100133
DTSTART:20181115T153000
DTEND:20181115T170000
SUMMARY:Visita del SIAD
LOCATION:
METHOD:PUBLISH
X-WR-CALNAME:capellades@capellades.cat
X-WR-TIMEZONE:Europe/Madrid
DESCRIPTION:Nova visita del Servei d'Informació i Atenció a la Dona.

URI:https://www.capellades.cat/actualitat/agenda/3842-visita-del-siad.html
CLASS:PUBLIC
END:VEVENT
END:VCALENDAR
