BEGIN:VCALENDAR
VERSION:2.0
CALSCALE:GREGORIAN
PRODID:-//Diputació de Barcelona//DibaCMS//EN
BEGIN:VEVENT
UID:3841
DTSTAMP:20260422T083625
DTSTART:20181115T190000
DTEND:20181115T203000
SUMMARY:Segona Xerrada cuina saludable
LOCATION:
METHOD:PUBLISH
X-WR-CALNAME:capellades@capellades.cat
X-WR-TIMEZONE:Europe/Madrid
DESCRIPTION:Segona xerrada de cuina saludable, de la mà de la Núria Gabriel, a la Biblioteca El Safareig.

URI:https://www.capellades.cat/actualitat/agenda/segona-xerrada-cuina-saludable.html
CLASS:PUBLIC
END:VEVENT
END:VCALENDAR
