BEGIN:VCALENDAR
VERSION:2.0
CALSCALE:GREGORIAN
PRODID:-//Diputació de Barcelona//DibaCMS//EN
BEGIN:VEVENT
UID:3840
DTSTAMP:20260422T071601
DTSTART:20181117T123000
DTEND:20181117T130000
SUMMARY:Inauguració, Instants de Jazz
LOCATION:
METHOD:PUBLISH
X-WR-CALNAME:capellades@capellades.cat
X-WR-TIMEZONE:Europe/Madrid
DESCRIPTION:Fins el 2 de desembre Casa Bas acollirà l'exposició amb les fotografies d'Oliver Adell i Torné.

URI:https://www.capellades.cat/actualitat/agenda/inauguracio-instants-de-jazz.html
CLASS:PUBLIC
END:VEVENT
END:VCALENDAR
