BEGIN:VCALENDAR
VERSION:2.0
CALSCALE:GREGORIAN
PRODID:-//Diputació de Barcelona//DibaCMS//EN
BEGIN:VEVENT
UID:3839
DTSTAMP:20260422T072613
DTSTART:20181110T094500
DTEND:20181110T130000
SUMMARY:Futbol Sala Capellades
LOCATION:
METHOD:PUBLISH
X-WR-CALNAME:capellades@capellades.cat
X-WR-TIMEZONE:Europe/Madrid
DESCRIPTION:Aquest dissabte vine a animar al Club de Futbol Sala Capellades al Pavelló Poliesportiu Municipal.

URI:https://www.capellades.cat/actualitat/agenda/futbol-sala-capellades.html
CLASS:PUBLIC
END:VEVENT
END:VCALENDAR
