BEGIN:VCALENDAR
VERSION:2.0
CALSCALE:GREGORIAN
PRODID:-//Diputació de Barcelona//DibaCMS//EN
BEGIN:VEVENT
UID:3837
DTSTAMP:20260422T095012
DTSTART:20181113T190000
DTEND:20181113T200000
SUMMARY:Xerrada de cuina saludable
LOCATION:
METHOD:PUBLISH
X-WR-CALNAME:capellades@capellades.cat
X-WR-TIMEZONE:Europe/Madrid
DESCRIPTION:Nova xerrada de cuina a la Biblioteca El Safareig de Capellades.

URI:https://www.capellades.cat/actualitat/agenda/xerrada-de-cuina-saludable.html
CLASS:PUBLIC
END:VEVENT
END:VCALENDAR
