BEGIN:VCALENDAR
VERSION:2.0
CALSCALE:GREGORIAN
PRODID:-//Diputació de Barcelona//DibaCMS//EN
BEGIN:VEVENT
UID:3834
DTSTAMP:20260422T060759
DTSTART:20181110T130000
DTEND:20181126T000000
SUMMARY:X Biennal Riudebitlles
LOCATION:
METHOD:PUBLISH
X-WR-CALNAME:capellades@capellades.cat
X-WR-TIMEZONE:Europe/Madrid
DESCRIPTION:Fins el mes de març es pot visitar al Museu Molí Paperer una mostra amb 50 obres de la X Biennal Riudebitlles.

URI:https://www.capellades.cat/actualitat/agenda/x-biennal-riudebitlles.html
CLASS:PUBLIC
END:VEVENT
END:VCALENDAR
