BEGIN:VCALENDAR
VERSION:2.0
CALSCALE:GREGORIAN
PRODID:-//Diputació de Barcelona//DibaCMS//EN
BEGIN:VEVENT
UID:3832
DTSTAMP:20260422T061207
DTSTART:20181130T193000
DTEND:20181130T210000
SUMMARY:Cinema: Sácame de dudas
LOCATION:
METHOD:PUBLISH
X-WR-CALNAME:capellades@capellades.cat
X-WR-TIMEZONE:Europe/Madrid
DESCRIPTION:A la Sala Petita del Teatre La Lliga es projectarà la pel·lícula "Sácame de dudas".

 

URI:https://www.capellades.cat/actualitat/agenda/cinema-sacame-de-dudas.html
CLASS:PUBLIC
END:VEVENT
END:VCALENDAR
