BEGIN:VCALENDAR
VERSION:2.0
CALSCALE:GREGORIAN
PRODID:-//Diputació de Barcelona//DibaCMS//EN
BEGIN:VEVENT
UID:3831
DTSTAMP:20260422T100239
DTSTART:20181124T210000
DTEND:20181124T235500
SUMMARY:Sortida al teatre
LOCATION:
METHOD:PUBLISH
X-WR-CALNAME:capellades@capellades.cat
X-WR-TIMEZONE:Europe/Madrid
DESCRIPTION:Aquest mes de novembre la sortida a Barcelona a veure teatre serà a la Sala Villaroel.

URI:https://www.capellades.cat/actualitat/agenda/sortida-al-teatre.html
CLASS:PUBLIC
END:VEVENT
END:VCALENDAR
