BEGIN:VCALENDAR
VERSION:2.0
CALSCALE:GREGORIAN
PRODID:-//Diputació de Barcelona//DibaCMS//EN
BEGIN:VEVENT
UID:3830
DTSTAMP:20260422T084356
DTSTART:20181122T210000
DTEND:20181122T235000
SUMMARY:Tast de vins i tapes
LOCATION:
METHOD:PUBLISH
X-WR-CALNAME:capellades@capellades.cat
X-WR-TIMEZONE:Europe/Madrid
DESCRIPTION:Nou Tast de vins i tapes al Saló Rosa de Capellades.

URI:https://www.capellades.cat/actualitat/agenda/tast-de-vins-i-tapes.html
CLASS:PUBLIC
END:VEVENT
END:VCALENDAR
