BEGIN:VCALENDAR
VERSION:2.0
CALSCALE:GREGORIAN
PRODID:-//Diputació de Barcelona//DibaCMS//EN
BEGIN:VEVENT
UID:3829
DTSTAMP:20260422T092818
DTSTART:20181118T180000
DTEND:20181118T200000
SUMMARY:Espectacle musical Play Back
LOCATION:
METHOD:PUBLISH
X-WR-CALNAME:capellades@capellades.cat
X-WR-TIMEZONE:Europe/Madrid
DESCRIPTION:Dins els actes de la Setmana de la Música a Capellades.

URI:https://www.capellades.cat/actualitat/agenda/espectacle-musical-play-back.html
CLASS:PUBLIC
END:VEVENT
END:VCALENDAR
