BEGIN:VCALENDAR
VERSION:2.0
CALSCALE:GREGORIAN
PRODID:-//Diputació de Barcelona//DibaCMS//EN
BEGIN:VEVENT
UID:3828
DTSTAMP:20260422T095607
DTSTART:20181117T140000
DTEND:20181117T160000
SUMMARY:La Lliga dels Gurmets
LOCATION:
METHOD:PUBLISH
X-WR-CALNAME:capellades@capellades.cat
X-WR-TIMEZONE:Europe/Madrid
DESCRIPTION:Per donar a conèixer el nou restaurant de La Lliga, es farà a la Cafeteria la trobada dels gurmets.

URI:https://www.capellades.cat/actualitat/agenda/la-lliga-dels-gurmets.html
CLASS:PUBLIC
END:VEVENT
END:VCALENDAR
