BEGIN:VCALENDAR
VERSION:2.0
CALSCALE:GREGORIAN
PRODID:-//Diputació de Barcelona//DibaCMS//EN
BEGIN:VEVENT
UID:3826
DTSTAMP:20260422T054404
DTSTART:20181117T193000
DTEND:20181117T210000
SUMMARY:Trobada poètica
LOCATION:
METHOD:PUBLISH
X-WR-CALNAME:capellades@capellades.cat
X-WR-TIMEZONE:Europe/Madrid
DESCRIPTION:Nova trobada poètica al Saló Rosa de La Lliga de Capellades.

URI:https://www.capellades.cat/actualitat/agenda/3826-trobada-poetica.html
CLASS:PUBLIC
END:VEVENT
END:VCALENDAR
