BEGIN:VCALENDAR
VERSION:2.0
CALSCALE:GREGORIAN
PRODID:-//Diputació de Barcelona//DibaCMS//EN
BEGIN:VEVENT
UID:3825
DTSTAMP:20260422T083859
DTSTART:20181116T193000
DTEND:20181116T210000
SUMMARY:Presentació de treballs de recerca
LOCATION:
METHOD:PUBLISH
X-WR-CALNAME:capellades@capellades.cat
X-WR-TIMEZONE:Europe/Madrid
DESCRIPTION:Dos exalumnes de l'Institut Molí de la Vila presentaran els seus treballs de recerca de 2n. de Batxillerat.

URI:https://www.capellades.cat/actualitat/agenda/presentacio-de-treballs-de-recerca.html
CLASS:PUBLIC
END:VEVENT
END:VCALENDAR
