BEGIN:VCALENDAR
VERSION:2.0
CALSCALE:GREGORIAN
PRODID:-//Diputació de Barcelona//DibaCMS//EN
BEGIN:VEVENT
UID:3816
DTSTAMP:20260422T071247
DTSTART:20181105T000000
DTEND:20190107T000000
SUMMARY:Curs d'iniciació a la fotografia
LOCATION:
METHOD:PUBLISH
X-WR-CALNAME:capellades@capellades.cat
X-WR-TIMEZONE:Europe/Madrid
DESCRIPTION:L'Agrupació Fotogràfica Capellades organitza un curs d'iniciació a la fotografia per a joves i adults.

URI:https://www.capellades.cat/actualitat/agenda/curs-diniciacio-a-la-fotografia.html
CLASS:PUBLIC
END:VEVENT
END:VCALENDAR
