BEGIN:VCALENDAR
VERSION:2.0
CALSCALE:GREGORIAN
PRODID:-//Diputació de Barcelona//DibaCMS//EN
BEGIN:VEVENT
UID:3811
DTSTAMP:20260422T083934
DTSTART:20181115T193000
DTEND:20181115T210000
SUMMARY:Xerrada sobre "Els inuits, caçadors del Gran Nord"
LOCATION:
METHOD:PUBLISH
X-WR-CALNAME:capellades@capellades.cat
X-WR-TIMEZONE:Europe/Madrid
DESCRIPTION:Els inuits, també coneguts com a esquimals, són un dels pobles indígenes que encara conserven moltes de les seves tradicions.

URI:https://www.capellades.cat/actualitat/agenda/xerrada-sobre-els-inuits-cacadors-del-gran-nord.html
CLASS:PUBLIC
END:VEVENT
END:VCALENDAR
