BEGIN:VCALENDAR
VERSION:2.0
CALSCALE:GREGORIAN
PRODID:-//Diputació de Barcelona//DibaCMS//EN
BEGIN:VEVENT
UID:3810
DTSTAMP:20260422T061455
DTSTART:20181111T180000
DTEND:20181111T200000
SUMMARY:Espectacle de xarxa amb Xema Màgic
LOCATION:
METHOD:PUBLISH
X-WR-CALNAME:capellades@capellades.cat
X-WR-TIMEZONE:Europe/Madrid
DESCRIPTION:Xema Màgic presenta el seu espectacle The Postman el diumenge 11 a les 6 de la tarda.

URI:https://www.capellades.cat/actualitat/agenda/espectacle-de-xarxa-amb-xema-magic.html
CLASS:PUBLIC
END:VEVENT
END:VCALENDAR
