BEGIN:VCALENDAR
VERSION:2.0
CALSCALE:GREGORIAN
PRODID:-//Diputació de Barcelona//DibaCMS//EN
BEGIN:VEVENT
UID:3809
DTSTAMP:20260422T073259
DTSTART:20181110T193000
DTEND:20181110T210000
SUMMARY:Contes per  a adults
LOCATION:
METHOD:PUBLISH
X-WR-CALNAME:capellades@capellades.cat
X-WR-TIMEZONE:Europe/Madrid
DESCRIPTION:La Lliga proposa L'espectacle Mirall Endins per al dissabte 10 de novembre, a dos quarts de vuit del vespre, a la Sala Petita.

URI:https://www.capellades.cat/actualitat/agenda/contes-per-a-adults.html
CLASS:PUBLIC
END:VEVENT
END:VCALENDAR
