BEGIN:VCALENDAR
VERSION:2.0
CALSCALE:GREGORIAN
PRODID:-//Diputació de Barcelona//DibaCMS//EN
BEGIN:VEVENT
UID:3807
DTSTAMP:20260422T044459
DTSTART:20181109T193000
DTEND:20181109T210000
SUMMARY:Projecció del documental Angry Inuk
LOCATION:
METHOD:PUBLISH
X-WR-CALNAME:capellades@capellades.cat
X-WR-TIMEZONE:Europe/Madrid
DESCRIPTION:La Sala Petita del Teatre La Lliga acollirà la projecció del documental Angry Inuk.

URI:https://www.capellades.cat/actualitat/agenda/projeccio-del-documental-angry-inuk.html
CLASS:PUBLIC
END:VEVENT
END:VCALENDAR
