BEGIN:VCALENDAR
VERSION:2.0
CALSCALE:GREGORIAN
PRODID:-//Diputació de Barcelona//DibaCMS//EN
BEGIN:VEVENT
UID:3806
DTSTAMP:20260422T044807
DTSTART:20181108T193000
DTEND:20181108T210000
SUMMARY:Xerrada sobre les dificultats en l'aprenentage
LOCATION:
METHOD:PUBLISH
X-WR-CALNAME:capellades@capellades.cat
X-WR-TIMEZONE:Europe/Madrid
DESCRIPTION:El Saló Rosa acollirà una xerrada organitzada des del Centre Mèdic amb la psicòloga Cristina Estrada.

URI:https://www.capellades.cat/actualitat/agenda/xerrada-sobre-les-dificultats-en-laprenentage.html
CLASS:PUBLIC
END:VEVENT
END:VCALENDAR
