BEGIN:VCALENDAR
VERSION:2.0
CALSCALE:GREGORIAN
PRODID:-//Diputació de Barcelona//DibaCMS//EN
BEGIN:VEVENT
UID:3805
DTSTAMP:20260422T044951
DTSTART:20181107T103000
DTEND:20181107T130000
SUMMARY:Visita de l'Oficina Mòbil d'Atenció al Consumidor
LOCATION:
METHOD:PUBLISH
X-WR-CALNAME:capellades@capellades.cat
X-WR-TIMEZONE:Europe/Madrid
DESCRIPTION:Aquest dimecres a dos quarts d'onze del matí hi haurà una nova visita de l'Oficina Mòbil d'Atenció al Consumidor.

URI:https://www.capellades.cat/actualitat/agenda/3805-visita-de-loficina-mobil-datencio-al-consumidor.html
CLASS:PUBLIC
END:VEVENT
END:VCALENDAR
