BEGIN:VCALENDAR
VERSION:2.0
CALSCALE:GREGORIAN
PRODID:-//Diputació de Barcelona//DibaCMS//EN
BEGIN:VEVENT
UID:3804
DTSTAMP:20260422T055128
DTSTART:20181106T180000
DTEND:20181106T190000
SUMMARY:Nova Hora del Conte
LOCATION:C/ Pilar, 2 08786 Capellades
METHOD:PUBLISH
X-WR-CALNAME:capellades@capellades.cat
X-WR-TIMEZONE:Europe/Madrid
DESCRIPTION:El mes de novembre comença a la Biblioteca El Safareig de Capellades amb una nova Hora del Conte.

URI:https://www.capellades.cat/actualitat/agenda/nova-hora-del-conte.html
CLASS:PUBLIC
END:VEVENT
END:VCALENDAR
