BEGIN:VCALENDAR
VERSION:2.0
CALSCALE:GREGORIAN
PRODID:-//Diputació de Barcelona//DibaCMS//EN
BEGIN:VEVENT
UID:3803
DTSTAMP:20260422T055828
DTSTART:20181104T180000
DTEND:20181104T200000
SUMMARY:El Grup Teatral de Capellades a Rubió
LOCATION:
METHOD:PUBLISH
X-WR-CALNAME:capellades@capellades.cat
X-WR-TIMEZONE:Europe/Madrid
DESCRIPTION:El Grup Teatral de Capellades anirà aquest diumenge a les 6 de la tarda a actuar.

URI:https://www.capellades.cat/actualitat/agenda/el-grup-teatral-de-capellades-a-rubio.html
CLASS:PUBLIC
END:VEVENT
END:VCALENDAR
