BEGIN:VCALENDAR
VERSION:2.0
CALSCALE:GREGORIAN
PRODID:-//Diputació de Barcelona//DibaCMS//EN
BEGIN:VEVENT
UID:3802
DTSTAMP:20260422T073015
DTSTART:20181103T130000
DTEND:20181103T190000
SUMMARY:Festa intercultural joves per la convivència i la no radicalització
LOCATION:C/ Pilar, 13 08786 Capellades
METHOD:PUBLISH
X-WR-CALNAME:capellades@capellades.cat
X-WR-TIMEZONE:Europe/Madrid
DESCRIPTION:L'Associació Sociocultural per a la Cooperació al Desenvolupament, Arrels i Branques, organitza aquest dissabte una gran festa intercultural al Teatre La Lliga de Capellades.

URI:https://www.capellades.cat/actualitat/agenda/festa-intercultural-joves-per-la-convivencia-i-la-no-radicalitzacio.html
CLASS:PUBLIC
END:VEVENT
END:VCALENDAR
