BEGIN:VCALENDAR
VERSION:2.0
CALSCALE:GREGORIAN
PRODID:-//Diputació de Barcelona//DibaCMS//EN
BEGIN:VEVENT
UID:3781
DTSTAMP:20260422T100834
DTSTART:20181020T103000
DTEND:20181020T133000
SUMMARY:Vine a animar al Futbol Sala Capellades
LOCATION:Avda. Maties Guasch 08786 Capellades
METHOD:PUBLISH
X-WR-CALNAME:capellades@capellades.cat
X-WR-TIMEZONE:Europe/Madrid
DESCRIPTION:Vine a animar als dos equips del Club de Futbol Sala Capellades que aquest dissabte juguen a casa.

URI:https://www.capellades.cat/actualitat/agenda/vine-a-animar-al-futbol-sala-capellades.html
CLASS:PUBLIC
END:VEVENT
END:VCALENDAR
