BEGIN:VCALENDAR
VERSION:2.0
CALSCALE:GREGORIAN
PRODID:-//Diputació de Barcelona//DibaCMS//EN
BEGIN:VEVENT
UID:3780
DTSTAMP:20260422T071517
DTSTART:20181030T183000
DTEND:20181030T200000
SUMMARY:Presentació del llibre "El domador de lagartijas"
LOCATION:C/ Pilar, 2 08786 Capellades
METHOD:PUBLISH
X-WR-CALNAME:capellades@capellades.cat
X-WR-TIMEZONE:Europe/Madrid
DESCRIPTION:Nova presentació literària a la Biblioteca El Safareig de Capellades.

URI:https://www.capellades.cat/actualitat/agenda/presentacio-del-llibre-el-domador-de-lagartijas.html
CLASS:PUBLIC
END:VEVENT
END:VCALENDAR
