BEGIN:VCALENDAR
VERSION:2.0
CALSCALE:GREGORIAN
PRODID:-//Diputació de Barcelona//DibaCMS//EN
BEGIN:VEVENT
UID:3779
DTSTAMP:20260422T083514
DTSTART:20181028T183000
DTEND:20181028T200000
SUMMARY:Festival de l'Esbart Dansot
LOCATION:C/ Pilar, 13 08786 Capellades
METHOD:PUBLISH
X-WR-CALNAME:capellades@capellades.cat
X-WR-TIMEZONE:Europe/Madrid
DESCRIPTION:L'Esbart Dansot compleix 45 anys i ho celebra com és habitual amb un Festival.

URI:https://www.capellades.cat/actualitat/agenda/festival-de-lesbart-dansot.html
CLASS:PUBLIC
END:VEVENT
END:VCALENDAR
