BEGIN:VCALENDAR
VERSION:2.0
CALSCALE:GREGORIAN
PRODID:-//Diputació de Barcelona//DibaCMS//EN
BEGIN:VEVENT
UID:3778
DTSTAMP:20260422T072411
DTSTART:20181028T090000
DTEND:20181028T140000
SUMMARY:Cursa del Neandertal
LOCATION:
METHOD:PUBLISH
X-WR-CALNAME:capellades@capellades.cat
X-WR-TIMEZONE:Europe/Madrid
DESCRIPTION:Nova edició de la Cursa del Neandertal organitzada des d'AEMdeKP en col·laboració amb l'Ajuntament de Capellades.

URI:https://www.capellades.cat/actualitat/agenda/cursa-del-neandertal.html
CLASS:PUBLIC
END:VEVENT
END:VCALENDAR
