BEGIN:VCALENDAR
VERSION:2.0
CALSCALE:GREGORIAN
PRODID:-//Diputació de Barcelona//DibaCMS//EN
BEGIN:VEVENT
UID:3777
DTSTAMP:20260422T072101
DTSTART:20181025T193000
DTEND:20181025T194500
SUMMARY:Penjada de llaços en record a les víctimes de violència sexista
LOCATION:
METHOD:PUBLISH
X-WR-CALNAME:capellades@capellades.cat
X-WR-TIMEZONE:Europe/Madrid
DESCRIPTION:La Taula de Dones convoca una nova concentració per al darrer dijous de mes per penjar cintes en record a les persones mortes el darrer mes per violència sexista.

URI:https://www.capellades.cat/actualitat/agenda/penjada-de-llacos-en-record-a-les-victimes-de-violencia-sexista.html
CLASS:PUBLIC
END:VEVENT
END:VCALENDAR
