BEGIN:VCALENDAR
VERSION:2.0
CALSCALE:GREGORIAN
PRODID:-//Diputació de Barcelona//DibaCMS//EN
BEGIN:VEVENT
UID:3772
DTSTAMP:20260422T100641
DTSTART:20181027T193000
DTEND:20181027T210000
SUMMARY:Concert, "Octubre. Cançons per la llibertat"
LOCATION:
METHOD:PUBLISH
X-WR-CALNAME:capellades@capellades.cat
X-WR-TIMEZONE:Europe/Madrid
DESCRIPTION:Concert d'A Grup Vocal, amb cançons de Lluís Llach, Raimon, Maria del Mar Bonet, Ramon Muntaner i Xarango, entre d'altres.

URI:https://www.capellades.cat/actualitat/agenda/concert-octubre-cancons-per-la-llibertat.html
CLASS:PUBLIC
END:VEVENT
END:VCALENDAR
