BEGIN:VCALENDAR
VERSION:2.0
CALSCALE:GREGORIAN
PRODID:-//Diputació de Barcelona//DibaCMS//EN
BEGIN:VEVENT
UID:3770
DTSTAMP:20260422T100824
DTSTART:20181023T180000
DTEND:20181023T190000
SUMMARY:Nova Hora del Conte a la Biblioteca El Safareig
LOCATION:C/ Pilar, 2 08786 Capellades
METHOD:PUBLISH
X-WR-CALNAME:capellades@capellades.cat
X-WR-TIMEZONE:Europe/Madrid
DESCRIPTION:Nova Hora del Conte a la Biblioteca El Safareig, aquest dimarts a les 6 de la tarda, a la sala d'actes.

URI:https://www.capellades.cat/actualitat/agenda/3770-nova-hora-del-conte-a-la-biblioteca-el-safareig.html
CLASS:PUBLIC
END:VEVENT
END:VCALENDAR
