BEGIN:VCALENDAR
VERSION:2.0
CALSCALE:GREGORIAN
PRODID:-//Diputació de Barcelona//DibaCMS//EN
BEGIN:VEVENT
UID:3768
DTSTAMP:20260422T084326
DTSTART:20181021T110000
DTEND:20181021T120000
SUMMARY:III Tastet de Cultura Popular
LOCATION:
METHOD:PUBLISH
X-WR-CALNAME:capellades@capellades.cat
X-WR-TIMEZONE:Europe/Madrid
DESCRIPTION:Aquest diumenge es fa la tercera edició del Tastet de Cultura Popular a la Residència Fundació Consorts Guasch.

URI:https://www.capellades.cat/actualitat/agenda/iii-tastet-de-cultura-popular.html
CLASS:PUBLIC
END:VEVENT
END:VCALENDAR
